BEGIN:VCALENDAR
VERSION:2.0
PRODID:-//SV Tappenbeck e.V. - ECPv6.15.20//NONSGML v1.0//EN
CALSCALE:GREGORIAN
METHOD:PUBLISH
X-ORIGINAL-URL:https://sv-tappenbeck.de
X-WR-CALDESC:Veranstaltungen für SV Tappenbeck e.V.
REFRESH-INTERVAL;VALUE=DURATION:PT1H
X-Robots-Tag:noindex
X-PUBLISHED-TTL:PT1H
BEGIN:VTIMEZONE
TZID:Europe/Paris
BEGIN:DAYLIGHT
TZOFFSETFROM:+0100
TZOFFSETTO:+0200
TZNAME:CEST
DTSTART:20250330T010000
END:DAYLIGHT
BEGIN:STANDARD
TZOFFSETFROM:+0200
TZOFFSETTO:+0100
TZNAME:CET
DTSTART:20251026T010000
END:STANDARD
BEGIN:DAYLIGHT
TZOFFSETFROM:+0100
TZOFFSETTO:+0200
TZNAME:CEST
DTSTART:20260329T010000
END:DAYLIGHT
BEGIN:STANDARD
TZOFFSETFROM:+0200
TZOFFSETTO:+0100
TZNAME:CET
DTSTART:20261025T010000
END:STANDARD
BEGIN:DAYLIGHT
TZOFFSETFROM:+0100
TZOFFSETTO:+0200
TZNAME:CEST
DTSTART:20270328T010000
END:DAYLIGHT
BEGIN:STANDARD
TZOFFSETFROM:+0200
TZOFFSETTO:+0100
TZNAME:CET
DTSTART:20271031T010000
END:STANDARD
END:VTIMEZONE
BEGIN:VEVENT
DTSTART;TZID=Europe/Paris:20260201T100000
DTEND;TZID=Europe/Paris:20260201T180000
DTSTAMP:20260419T220744
CREATED:20251022T054331Z
LAST-MODIFIED:20260102T123243Z
UID:2200-1769940000-1769968800@sv-tappenbeck.de
SUMMARY:Grünkohlwanderung 2026
DESCRIPTION:Am Sonntag\, 01.02.2026 laden wir euch herzlich zur diesjährigen Grünkohlwanderung mit anschließendem Essen im Sportheim ein.\nZur Auswahl stehen Grünkohl mit Bregenwurst\, Kasseler oder Schnitzel\, sowie eine vegane Alternative. \nTreffpunkt ist unser Sportheim\nStart der Wanderung: 10:00Uhr\nWir bitten um Anmeldung\, damit wir euch bestens Versorgen können! \nPreis für Erwachsene: 18\,00€ \nPreis für Kinder bis 10 Jahre: 12\,00€ \nAnmelden könnt ihr euch unter der 0170-2048583. Anmeldeschluss ist der 23.01.2026
URL:https://sv-tappenbeck.de/event/gruenkohlwanderung-2026/
CATEGORIES:Events
END:VEVENT
END:VCALENDAR