BEGIN:VCALENDAR
VERSION:2.0
PRODID:-//SV Tappenbeck e.V. - ECPv6.15.20//NONSGML v1.0//EN
CALSCALE:GREGORIAN
METHOD:PUBLISH
X-WR-CALNAME:SV Tappenbeck e.V.
X-ORIGINAL-URL:https://sv-tappenbeck.de
X-WR-CALDESC:Veranstaltungen für SV Tappenbeck e.V.
REFRESH-INTERVAL;VALUE=DURATION:PT1H
X-Robots-Tag:noindex
X-PUBLISHED-TTL:PT1H
BEGIN:VTIMEZONE
TZID:UTC
BEGIN:STANDARD
TZOFFSETFROM:+0000
TZOFFSETTO:+0000
TZNAME:UTC
DTSTART:20240101T000000
END:STANDARD
END:VTIMEZONE
BEGIN:VEVENT
DTSTART;TZID=UTC:20251115T193000
DTEND;TZID=UTC:20251115T193000
DTSTAMP:20260420T023307
CREATED:20250103T100953Z
LAST-MODIFIED:20251109T134544Z
UID:1153-1763235000-1763235000@sv-tappenbeck.de
SUMMARY:Oldie Night 2025
DESCRIPTION:Auch in 2025 wir es sie wieder geben\, die legendäre Oldie Night im Tappenbecker Sportheim. \nJetzt noch schnell Karten für die letzte Tappenbecker OldieNight in der legendären Location unseres Sportheims sichern. \nEs sind noch restkarten bei Andree Klebba erhältlich. Tel. 0160-7626478 \n 
URL:https://sv-tappenbeck.de/event/oldie-night-2025/
CATEGORIES:Events
END:VEVENT
END:VCALENDAR